BEGIN:VCALENDAR
VERSION:2.0
PRODID:-//Central Colorado Humanists - ECPv6.15.20//NONSGML v1.0//EN
CALSCALE:GREGORIAN
METHOD:PUBLISH
X-ORIGINAL-URL:https://centralcoloradohumanists.org
X-WR-CALDESC:Events for Central Colorado Humanists
REFRESH-INTERVAL;VALUE=DURATION:PT1H
X-Robots-Tag:noindex
X-PUBLISHED-TTL:PT1H
BEGIN:VTIMEZONE
TZID:America/Denver
BEGIN:DAYLIGHT
TZOFFSETFROM:-0700
TZOFFSETTO:-0600
TZNAME:MDT
DTSTART:20250309T090000
END:DAYLIGHT
BEGIN:STANDARD
TZOFFSETFROM:-0600
TZOFFSETTO:-0700
TZNAME:MST
DTSTART:20251102T080000
END:STANDARD
BEGIN:DAYLIGHT
TZOFFSETFROM:-0700
TZOFFSETTO:-0600
TZNAME:MDT
DTSTART:20260308T090000
END:DAYLIGHT
BEGIN:STANDARD
TZOFFSETFROM:-0600
TZOFFSETTO:-0700
TZNAME:MST
DTSTART:20261101T080000
END:STANDARD
BEGIN:DAYLIGHT
TZOFFSETFROM:-0700
TZOFFSETTO:-0600
TZNAME:MDT
DTSTART:20270314T090000
END:DAYLIGHT
BEGIN:STANDARD
TZOFFSETFROM:-0600
TZOFFSETTO:-0700
TZNAME:MST
DTSTART:20271107T080000
END:STANDARD
END:VTIMEZONE
BEGIN:VEVENT
DTSTART;TZID=America/Denver:20260301T100000
DTEND;TZID=America/Denver:20260301T120000
DTSTAMP:20260425T110309
CREATED:20250826T004020Z
LAST-MODIFIED:20260227T170408Z
UID:1820-1772359200-1772366400@centralcoloradohumanists.org
SUMMARY:Sunday Science
DESCRIPTION:Voluntary Flow Management Program for the Arkansas River \nBob Hamel\, Arkansas River Outfitters Association \nA Church\, Salida\, 419 D Street
URL:https://centralcoloradohumanists.org/event/sunday-science-31/
LOCATION:A Church\, 419 D Street\, Salida\, 210 E Sackett Ave\, Salida\, CO\, 81201\, United States
END:VEVENT
BEGIN:VEVENT
DTSTART;TZID=America/Denver:20260301T235900
DTEND;TZID=America/Denver:20260301T235900
DTSTAMP:20260425T110309
CREATED:20260127T212655Z
LAST-MODIFIED:20260127T213224Z
UID:1963-1772409540-1772409540@centralcoloradohumanists.org
SUMMARY:2026 Scholarship Deadline
DESCRIPTION:All application materials for the CCH 2026 scholarships must be complete and submitted by March 1\, 2026. \n 
URL:https://centralcoloradohumanists.org/event/2026-scholarship-deadline/
CATEGORIES:CCH Events
END:VEVENT
BEGIN:VEVENT
DTSTART;TZID=America/Denver:20260305T160000
DTEND;TZID=America/Denver:20260305T180000
DTSTAMP:20260425T110309
CREATED:20260227T171527Z
LAST-MODIFIED:20260227T172554Z
UID:1996-1772726400-1772733600@centralcoloradohumanists.org
SUMMARY:Stammtisch Buena Vista
DESCRIPTION:Buena Vista Stammtisch: Simple Eatery\, 402 E Main\, Buena Vista\n \nSay ‘Hello’ to old friends and meet new ones over good food\, drink\, and conversation. On the first Thursday of each month\, in Buena Vista\, members and friends of the Central Colorado Humanists gather for an ‘agenda-free’ time of nourishing relationships. \nFrom Wikipedia: A Stammtisch (German: “regulars’ table”) is an informal group meeting held on a regular basis\, and also the usually large\, often round table around which the group meets. A Stammtisch is not a structured meeting\, but rather a friendly get-together.
URL:https://centralcoloradohumanists.org/event/stammtisch-buena-vista-copy-8/
LOCATION:Simple Eatery\, 402 E MainBuena Vista\, Buena Vista\, CO\, 81201\, United States
END:VEVENT
BEGIN:VEVENT
DTSTART;TZID=America/Denver:20260315T100000
DTEND;TZID=America/Denver:20260315T120000
DTSTAMP:20260425T110309
CREATED:20260227T173035Z
LAST-MODIFIED:20260227T173035Z
UID:2004-1773568800-1773576000@centralcoloradohumanists.org
SUMMARY:Sunday Brunch & Discussion Group
DESCRIPTION:Minimalism as it relates to Human Happiness. \nMinimalism and gratitude intersect in those who find contentment in less and can shift focus from accumulating possessions to appreciating life’s essentials. A key concept emphasizes that true wealth involves wanting less. This can be accomplished by understanding the nature of “enough” and realizing that happiness stems from cherishing what you already have rather than constantly seeking more.
URL:https://centralcoloradohumanists.org/event/sunday-brunch-discussion-group/
END:VEVENT
BEGIN:VEVENT
DTSTART;TZID=America/Denver:20260326T160000
DTEND;TZID=America/Denver:20260326T180000
DTSTAMP:20260425T110309
CREATED:20260227T171325Z
LAST-MODIFIED:20260317T152406Z
UID:1994-1774540800-1774548000@centralcoloradohumanists.org
SUMMARY:Stammtisch Salida/Poncha Springs
DESCRIPTION:Salida/Poncha Springs Stammtisch: Location Changed to Salida Golf Course Restaurant\n \nSay ‘Hello’ to old friends and meet new ones over good food\, drink\, and conversation. On the fourth Thursday of each month\, in Salida\, members and friends of the Central Colorado Humanists gather for an ‘agenda-free’ time of nourishing relationships. \nFrom Wikipedia: A Stammtisch (German: “regulars’ table”) is an informal group meeting held on a regular basis\, and also the usually large\, often round table around which the group meets. A Stammtisch is not a structured meeting\, but rather a friendly get-together.
URL:https://centralcoloradohumanists.org/event/stammtisch-salida-poncha-springs-copy-2/
LOCATION:Golf Cabin Bar & Grill\, 404 Grant Street\, Salida\, 81201\, United States
END:VEVENT
END:VCALENDAR