BEGIN:VCALENDAR
VERSION:2.0
PRODID:-//Central Colorado Humanists - ECPv6.15.20//NONSGML v1.0//EN
CALSCALE:GREGORIAN
METHOD:PUBLISH
X-WR-CALNAME:Central Colorado Humanists
X-ORIGINAL-URL:https://centralcoloradohumanists.org
X-WR-CALDESC:Events for Central Colorado Humanists
REFRESH-INTERVAL;VALUE=DURATION:PT1H
X-Robots-Tag:noindex
X-PUBLISHED-TTL:PT1H
BEGIN:VTIMEZONE
TZID:America/Denver
BEGIN:DAYLIGHT
TZOFFSETFROM:-0700
TZOFFSETTO:-0600
TZNAME:MDT
DTSTART:20240310T090000
END:DAYLIGHT
BEGIN:STANDARD
TZOFFSETFROM:-0600
TZOFFSETTO:-0700
TZNAME:MST
DTSTART:20241103T080000
END:STANDARD
BEGIN:DAYLIGHT
TZOFFSETFROM:-0700
TZOFFSETTO:-0600
TZNAME:MDT
DTSTART:20250309T090000
END:DAYLIGHT
BEGIN:STANDARD
TZOFFSETFROM:-0600
TZOFFSETTO:-0700
TZNAME:MST
DTSTART:20251102T080000
END:STANDARD
BEGIN:DAYLIGHT
TZOFFSETFROM:-0700
TZOFFSETTO:-0600
TZNAME:MDT
DTSTART:20260308T090000
END:DAYLIGHT
BEGIN:STANDARD
TZOFFSETFROM:-0600
TZOFFSETTO:-0700
TZNAME:MST
DTSTART:20261101T080000
END:STANDARD
END:VTIMEZONE
BEGIN:VEVENT
DTSTART;TZID=America/Denver:20251204T160000
DTEND;TZID=America/Denver:20251204T180000
DTSTAMP:20260425T164029
CREATED:20251202T213241Z
LAST-MODIFIED:20251202T213241Z
UID:1903-1764864000-1764871200@centralcoloradohumanists.org
SUMMARY:Stammtisch Buena Vista
DESCRIPTION:Buena Vista Stammtisch: Simple Eatery\, 402 E Main\, Buena Vista\n \nSay ‘Hello’ to old friends and meet new ones over good food\, drink\, and conversation. On the first Thursday of each month\, in Buena Vista\, members and friends of the Central Colorado Humanists gather for an ‘agenda-free’ time of nourishing relationships. \nFrom Wikipedia: A Stammtisch (German: “regulars’ table”) is an informal group meeting held on a regular basis\, and also the usually large\, often round table around which the group meets. A Stammtisch is not a structured meeting\, but rather a friendly get-together.
URL:https://centralcoloradohumanists.org/event/stammtisch-buena-vista-32/
CATEGORIES:CCH Events
END:VEVENT
BEGIN:VEVENT
DTSTART;TZID=America/Denver:20251207T100000
DTEND;TZID=America/Denver:20251207T120000
DTSTAMP:20260425T164029
CREATED:20250826T003601Z
LAST-MODIFIED:20250826T003601Z
UID:1817-1765101600-1765108800@centralcoloradohumanists.org
SUMMARY:Sunday Science
DESCRIPTION:Paul Bendt   “What is Science?” \nA Church\, Salida\, 419 D Street
URL:https://centralcoloradohumanists.org/event/sunday-science-28/
END:VEVENT
BEGIN:VEVENT
DTSTART;TZID=America/Denver:20251218T160000
DTEND;TZID=America/Denver:20251218T170000
DTSTAMP:20260425T164029
CREATED:20251202T213454Z
LAST-MODIFIED:20251202T213454Z
UID:1905-1766073600-1766077200@centralcoloradohumanists.org
SUMMARY:Stammtisch Salida/Poncha Springs
DESCRIPTION:New Location!  Hacienda Jalisco\,   1220 E Rainbow\, Salida
URL:https://centralcoloradohumanists.org/event/stammtisch-salida-poncha-springs-5/
END:VEVENT
BEGIN:VEVENT
DTSTART;TZID=America/Denver:20251221T120000
DTEND;TZID=America/Denver:20251221T150000
DTSTAMP:20260425T164029
CREATED:20250908T121350Z
LAST-MODIFIED:20251129T041811Z
UID:1840-1766318400-1766329200@centralcoloradohumanists.org
SUMMARY:Human Light Celebration
DESCRIPTION:Come join another fun\, informative Human Light Celebration with your CCH friends. \nSalida Community Center \n3rd & F Street\, Salida.
URL:https://centralcoloradohumanists.org/event/human-light-celebration-3/
END:VEVENT
BEGIN:VEVENT
DTSTART;TZID=America/Denver:20251222T170000
DTEND;TZID=America/Denver:20251222T180000
DTSTAMP:20260425T164029
CREATED:20251202T213554Z
LAST-MODIFIED:20251202T213554Z
UID:1907-1766422800-1766426400@centralcoloradohumanists.org
SUMMARY:Book Club
DESCRIPTION:details TBD
URL:https://centralcoloradohumanists.org/event/book-club-9/
END:VEVENT
END:VCALENDAR