BEGIN:VCALENDAR
VERSION:2.0
PRODID:-//Central Colorado Humanists - ECPv6.15.20//NONSGML v1.0//EN
CALSCALE:GREGORIAN
METHOD:PUBLISH
X-WR-CALNAME:Central Colorado Humanists
X-ORIGINAL-URL:https://centralcoloradohumanists.org
X-WR-CALDESC:Events for Central Colorado Humanists
REFRESH-INTERVAL;VALUE=DURATION:PT1H
X-Robots-Tag:noindex
X-PUBLISHED-TTL:PT1H
BEGIN:VTIMEZONE
TZID:America/Denver
BEGIN:DAYLIGHT
TZOFFSETFROM:-0700
TZOFFSETTO:-0600
TZNAME:MDT
DTSTART:20230312T090000
END:DAYLIGHT
BEGIN:STANDARD
TZOFFSETFROM:-0600
TZOFFSETTO:-0700
TZNAME:MST
DTSTART:20231105T080000
END:STANDARD
BEGIN:DAYLIGHT
TZOFFSETFROM:-0700
TZOFFSETTO:-0600
TZNAME:MDT
DTSTART:20240310T090000
END:DAYLIGHT
BEGIN:STANDARD
TZOFFSETFROM:-0600
TZOFFSETTO:-0700
TZNAME:MST
DTSTART:20241103T080000
END:STANDARD
BEGIN:DAYLIGHT
TZOFFSETFROM:-0700
TZOFFSETTO:-0600
TZNAME:MDT
DTSTART:20250309T090000
END:DAYLIGHT
BEGIN:STANDARD
TZOFFSETFROM:-0600
TZOFFSETTO:-0700
TZNAME:MST
DTSTART:20251102T080000
END:STANDARD
BEGIN:DAYLIGHT
TZOFFSETFROM:-0700
TZOFFSETTO:-0600
TZNAME:MDT
DTSTART:20260308T090000
END:DAYLIGHT
BEGIN:STANDARD
TZOFFSETFROM:-0600
TZOFFSETTO:-0700
TZNAME:MST
DTSTART:20261101T080000
END:STANDARD
END:VTIMEZONE
BEGIN:VEVENT
DTSTART;TZID=America/Denver:20250406T100000
DTEND;TZID=America/Denver:20250406T120000
DTSTAMP:20260425T222723
CREATED:20241121T145636Z
LAST-MODIFIED:20241121T145636Z
UID:1625-1743933600-1743940800@centralcoloradohumanists.org
SUMMARY:Sunday Science
DESCRIPTION:Curtis Legacy Foundation \nColleen Graybill \n“A” Church\, 419 D Street\, Salida
URL:https://centralcoloradohumanists.org/event/sunday-science-20/
END:VEVENT
BEGIN:VEVENT
DTSTART;TZID=America/Denver:20250403T160000
DTEND;TZID=America/Denver:20250403T180000
DTSTAMP:20260425T222723
CREATED:20250318T201051Z
LAST-MODIFIED:20250331T171801Z
UID:1709-1743696000-1743703200@centralcoloradohumanists.org
SUMMARY:Stammtisch Buena Vista
DESCRIPTION:Buena Vista Stammtisch: Simple Eatery\, 402 E Main\, Buena Vista\n \nSay ‘Hello’ to old friends and meet new ones over good food\, drink\, and conversation. On the first Thursday of each month\, in Buena Vista\, members and friends of the Central Colorado Humanists gather for an ‘agenda-free’ time of nourishing relationships. \nFrom Wikipedia: A Stammtisch (German: “regulars’ table”) is an informal group meeting held on a regular basis\, and also the usually large\, often round table around which the group meets. A Stammtisch is not a structured meeting\, but rather a friendly get-together.
URL:https://centralcoloradohumanists.org/event/stammtisch-buena-vista-copy-2/
CATEGORIES:CCH Events
END:VEVENT
BEGIN:VEVENT
DTSTART;TZID=America/Denver:20250327T160000
DTEND;TZID=America/Denver:20250327T180000
DTSTAMP:20260425T222723
CREATED:20250318T200321Z
LAST-MODIFIED:20250331T171809Z
UID:1703-1743091200-1743098400@centralcoloradohumanists.org
SUMMARY:Salida / Poncha Springs Stammtisch
DESCRIPTION:Elevation Beer Company\, 4pm
URL:https://centralcoloradohumanists.org/event/salida-poncha-springs-stammtisch-copy/
END:VEVENT
BEGIN:VEVENT
DTSTART;TZID=America/Denver:20250317T170000
DTEND;TZID=America/Denver:20250317T190000
DTSTAMP:20260425T222723
CREATED:20250224T221329Z
LAST-MODIFIED:20250224T221329Z
UID:1689-1742230800-1742238000@centralcoloradohumanists.org
SUMMARY:Book Club!
DESCRIPTION:Confessions of a Recovering Environmentalist and Other Essays\, by Paul Kingsnorth.  All CCH members are invited to attend. \n9920 Feather Lane
URL:https://centralcoloradohumanists.org/event/book-club-2/
END:VEVENT
BEGIN:VEVENT
DTSTART;TZID=America/Denver:20250302T100000
DTEND;TZID=America/Denver:20250302T120000
DTSTAMP:20260425T222723
CREATED:20241121T145457Z
LAST-MODIFIED:20241121T145457Z
UID:1623-1740909600-1740916800@centralcoloradohumanists.org
SUMMARY:Sunday Science
DESCRIPTION:River contamination and remediation \nJason Willis\, P.E.\, TU \n“A” Church\, 419 D Street\, Salida
URL:https://centralcoloradohumanists.org/event/sunday-science-19/
END:VEVENT
BEGIN:VEVENT
DTSTART;TZID=America/Denver:20250227T160000
DTEND;TZID=America/Denver:20250227T180000
DTSTAMP:20260425T222723
CREATED:20241227T230937Z
LAST-MODIFIED:20241227T230937Z
UID:1652-1740672000-1740679200@centralcoloradohumanists.org
SUMMARY:Salida / Poncha Springs Stammtisch
DESCRIPTION:Elevation Beer Company\, 4pm
URL:https://centralcoloradohumanists.org/event/salida-poncha-springs-stammtisch/
END:VEVENT
BEGIN:VEVENT
DTSTART;TZID=America/Denver:20250216T110000
DTEND;TZID=America/Denver:20250216T130000
DTSTAMP:20260425T222723
CREATED:20250128T221850Z
LAST-MODIFIED:20250128T222144Z
UID:1668-1739703600-1739710800@centralcoloradohumanists.org
SUMMARY:Sunday Brunch and Discussion
DESCRIPTION:Home of Susan Bavaria \n“Feedback on Humanism Presentation”
URL:https://centralcoloradohumanists.org/event/sunday-brunch-and-discussion-8/
END:VEVENT
BEGIN:VEVENT
DTSTART;TZID=America/Denver:20250210T170000
DTEND;TZID=America/Denver:20250210T190000
DTSTAMP:20260425T222723
CREATED:20241227T230616Z
LAST-MODIFIED:20241227T230616Z
UID:1650-1739206800-1739214000@centralcoloradohumanists.org
SUMMARY:CCH Book Club
DESCRIPTION:811 G St\, Salida. We will be discussing one of the books from our recently compiled book list: Free Thinker\, Sex\, Suffrage\, and the Extraordinary of Life of Helen Hamilton Gardner by Kimberly A. Hamlin.
URL:https://centralcoloradohumanists.org/event/cch-book-club-11/
END:VEVENT
BEGIN:VEVENT
DTSTART;TZID=America/Denver:20250206T160000
DTEND;TZID=America/Denver:20250206T180000
DTSTAMP:20260425T222723
CREATED:20241227T230445Z
LAST-MODIFIED:20250128T221623Z
UID:1648-1738857600-1738864800@centralcoloradohumanists.org
SUMMARY:Stammtisch Buena Vista
DESCRIPTION:Buena Vista Stammtisch: Simple Eatery\, 402 E Main\, Buena Vista\n \nSay ‘Hello’ to old friends and meet new ones over good food\, drink\, and conversation. On the first Thursday of each month\, in Buena Vista\, members and friends of the Central Colorado Humanists gather for an ‘agenda-free’ time of nourishing relationships. \nFrom Wikipedia: A Stammtisch (German: “regulars’ table”) is an informal group meeting held on a regular basis\, and also the usually large\, often round table around which the group meets. A Stammtisch is not a structured meeting\, but rather a friendly get-together.
URL:https://centralcoloradohumanists.org/event/stammtisch-buena-vista-29/
CATEGORIES:CCH Events
END:VEVENT
BEGIN:VEVENT
DTSTART;TZID=America/Denver:20250202T100000
DTEND;TZID=America/Denver:20250202T120000
DTSTAMP:20260425T222723
CREATED:20241121T145301Z
LAST-MODIFIED:20250128T221712Z
UID:1621-1738490400-1738497600@centralcoloradohumanists.org
SUMMARY:Sunday Science
DESCRIPTION:Colorado’s Energy Transition to Low Carbon \nAllen Best \n“A” Church\, 419 D Street\, Salida \nAlso cake and fun to celebrate Darwin Day!
URL:https://centralcoloradohumanists.org/event/sunday-science-18/
END:VEVENT
BEGIN:VEVENT
DTSTART;TZID=America/Denver:20250123T160000
DTEND;TZID=America/Denver:20250123T180000
DTSTAMP:20260425T222723
CREATED:20241227T230220Z
LAST-MODIFIED:20241227T230220Z
UID:1646-1737648000-1737655200@centralcoloradohumanists.org
SUMMARY:Salida / Poncha Springs Stammtisch
DESCRIPTION:Elevation Beer Company\, 4pm
URL:https://centralcoloradohumanists.org/event/salida-poncha-springs-stammtisch-2/
END:VEVENT
BEGIN:VEVENT
DTSTART;TZID=America/Denver:20250105T100000
DTEND;TZID=America/Denver:20250105T120000
DTSTAMP:20260425T222723
CREATED:20241114T150750Z
LAST-MODIFIED:20241121T145051Z
UID:1618-1736071200-1736078400@centralcoloradohumanists.org
SUMMARY:Sunday Science
DESCRIPTION:Warfare on the Northern Plains: Quantifying the Construction of Community Fortifications at the Molander Site. \nMark Mitchell \n“A” Church. 419 D Street\, Salida
URL:https://centralcoloradohumanists.org/event/sunday-science-14/
END:VEVENT
BEGIN:VEVENT
DTSTART;TZID=America/Denver:20250102T160000
DTEND;TZID=America/Denver:20250102T180000
DTSTAMP:20260425T222723
CREATED:20241124T225004Z
LAST-MODIFIED:20241227T225800Z
UID:1632-1735833600-1735840800@centralcoloradohumanists.org
SUMMARY:Stammtisch Buena Vista
DESCRIPTION:Buena Vista Stammtisch: Simple Eatery\, 402 E Main\, Buena Vista\n \nSay ‘Hello’ to old friends and meet new ones over good food\, drink\, and conversation. On the first Thursday of each month\, in Buena Vista\, members and friends of the Central Colorado Humanists gather for an ‘agenda-free’ time of nourishing relationships. \nFrom Wikipedia: A Stammtisch (German: “regulars’ table”) is an informal group meeting held on a regular basis\, and also the usually large\, often round table around which the group meets. A Stammtisch is not a structured meeting\, but rather a friendly get-together.
URL:https://centralcoloradohumanists.org/event/stammtisch-buena-vista-copy-copy/
CATEGORIES:CCH Events
END:VEVENT
BEGIN:VEVENT
DTSTART;TZID=America/Denver:20241222T110000
DTEND;TZID=America/Denver:20241222T150000
DTSTAMP:20260425T222723
CREATED:20240905T145729Z
LAST-MODIFIED:20241211T220230Z
UID:1605-1734865200-1734879600@centralcoloradohumanists.org
SUMMARY:Human Light Celebration
DESCRIPTION:CCH Annual Human Light Celebration \nSalida Community Center\, 305 F Street\, Salida \n11am – 3pm
URL:https://centralcoloradohumanists.org/event/human-light-celebration-2/
END:VEVENT
BEGIN:VEVENT
DTSTART;TZID=America/Denver:20241219T160000
DTEND;TZID=America/Denver:20241219T180000
DTSTAMP:20260425T222723
CREATED:20241206T152947Z
LAST-MODIFIED:20241206T152947Z
UID:1639-1734624000-1734631200@centralcoloradohumanists.org
SUMMARY:Stammtisch\, Salida/Poncha Springs
DESCRIPTION:Elevation Beer Company \n 
URL:https://centralcoloradohumanists.org/event/stammtisch-salida-poncha-springs/
END:VEVENT
BEGIN:VEVENT
DTSTART;TZID=America/Denver:20241208T140000
DTEND;TZID=America/Denver:20241208T160000
DTSTAMP:20260425T222723
CREATED:20240819T160200Z
LAST-MODIFIED:20240819T160200Z
UID:1598-1733666400-1733673600@centralcoloradohumanists.org
SUMMARY:Steering Committee Meeting
DESCRIPTION:Review 2024 and planning for 2025 \ntime/place tbd
URL:https://centralcoloradohumanists.org/event/steering-committee-meeting/
END:VEVENT
BEGIN:VEVENT
DTSTART;TZID=America/Denver:20241207T100000
DTEND;TZID=America/Denver:20241207T120000
DTSTAMP:20260425T222723
CREATED:20241206T152528Z
LAST-MODIFIED:20241206T152640Z
UID:1636-1733565600-1733572800@centralcoloradohumanists.org
SUMMARY:Sunday Brunch and Discussion
DESCRIPTION:Planning session for 2025 \nMeet at home of Lydia Segal & Steve Burns\, 850 Crestone\, Ave.\, Salida
URL:https://centralcoloradohumanists.org/event/sunday-brunch-and-discussion-7/
END:VEVENT
BEGIN:VEVENT
DTSTART;TZID=America/Denver:20241202T140000
DTEND;TZID=America/Denver:20241202T160000
DTSTAMP:20260425T222723
CREATED:20240205T030620Z
LAST-MODIFIED:20241206T152727Z
UID:1444-1733148000-1733155200@centralcoloradohumanists.org
SUMMARY:CCH Board Meeting
DESCRIPTION:monthly board meeting.   location tbd
URL:https://centralcoloradohumanists.org/event/cch-board-meeting-34/
END:VEVENT
BEGIN:VEVENT
DTSTART;TZID=America/Denver:20241201T100000
DTEND;TZID=America/Denver:20241201T120000
DTSTAMP:20260425T222723
CREATED:20240205T024157Z
LAST-MODIFIED:20240729T143541Z
UID:1386-1733047200-1733054400@centralcoloradohumanists.org
SUMMARY:Sunday Science
DESCRIPTION:Brain Injuries\, and new Helmet Technology \nSande & Dave Visnack
URL:https://centralcoloradohumanists.org/event/sunday-science-17/
LOCATION:A Church\, 419 D Street\, Salida\, 210 E Sackett Ave\, Salida\, CO\, 81201\, United States
END:VEVENT
BEGIN:VEVENT
DTSTART;TZID=America/Denver:20241121T160000
DTEND;TZID=America/Denver:20241121T170000
DTSTAMP:20260425T222723
CREATED:20240205T025808Z
LAST-MODIFIED:20241114T150539Z
UID:1428-1732204800-1732208400@centralcoloradohumanists.org
SUMMARY:Stammtisch\, Salida
DESCRIPTION:Elevation Brewery Co.\, Poncha Springs
URL:https://centralcoloradohumanists.org/event/stammtisch-salida-13/
END:VEVENT
BEGIN:VEVENT
DTSTART;TZID=America/Denver:20241107T160000
DTEND;TZID=America/Denver:20241107T180000
DTSTAMP:20260425T222723
CREATED:20240205T025015Z
LAST-MODIFIED:20240405T215224Z
UID:1406-1730995200-1731002400@centralcoloradohumanists.org
SUMMARY:Stammtisch Buena Vista
DESCRIPTION:Buena Vista Stammtisch: Simple Eatery\, 402 E Main\, Buena Vista\n \nSay ‘Hello’ to old friends and meet new ones over good food\, drink\, and conversation. On the first Thursday of each month\, in Buena Vista\, members and friends of the Central Colorado Humanists gather for an ‘agenda-free’ time of nourishing relationships. \nFrom Wikipedia: A Stammtisch (German: “regulars’ table”) is an informal group meeting held on a regular basis\, and also the usually large\, often round table around which the group meets. A Stammtisch is not a structured meeting\, but rather a friendly get-together.
URL:https://centralcoloradohumanists.org/event/stammtisch-buena-vista-28/
CATEGORIES:CCH Events
END:VEVENT
BEGIN:VEVENT
DTSTART;TZID=America/Denver:20241104T140000
DTEND;TZID=America/Denver:20241104T160000
DTSTAMP:20260425T222723
CREATED:20240205T030544Z
LAST-MODIFIED:20240205T030544Z
UID:1442-1730728800-1730736000@centralcoloradohumanists.org
SUMMARY:CCH Board Meeting
DESCRIPTION:monthly board meeting.   location tbd
URL:https://centralcoloradohumanists.org/event/cch-board-meeting-33/
END:VEVENT
BEGIN:VEVENT
DTSTART;TZID=America/Denver:20241103T100000
DTEND;TZID=America/Denver:20241103T120000
DTSTAMP:20260425T222723
CREATED:20240205T024119Z
LAST-MODIFIED:20241028T222045Z
UID:1372-1730628000-1730635200@centralcoloradohumanists.org
SUMMARY:Sunday Science
DESCRIPTION:Ben Lara\, The Continental Divide Trail
URL:https://centralcoloradohumanists.org/event/sunday-science-16/
LOCATION:A Church\, 419 D Street\, Salida\, 210 E Sackett Ave\, Salida\, CO\, 81201\, United States
END:VEVENT
BEGIN:VEVENT
DTSTART;TZID=America/Denver:20241024T160000
DTEND;TZID=America/Denver:20241024T170000
DTSTAMP:20260425T222723
CREATED:20240205T025731Z
LAST-MODIFIED:20240819T160426Z
UID:1426-1729785600-1729789200@centralcoloradohumanists.org
SUMMARY:Stammtisch\, Salida
DESCRIPTION:Elevation Brewery Co.\, Poncha Springs
URL:https://centralcoloradohumanists.org/event/stammtisch-salida-12/
END:VEVENT
BEGIN:VEVENT
DTSTART;TZID=America/Denver:20241020T100000
DTEND;TZID=America/Denver:20241020T120000
DTSTAMP:20260425T222723
CREATED:20240402T033358Z
LAST-MODIFIED:20241002T185020Z
UID:1483-1729418400-1729425600@centralcoloradohumanists.org
SUMMARY:Sunday Brunch and Discussion
DESCRIPTION:“The Housing Crisis” \nHosted by Tom and Layne Kottmeier
URL:https://centralcoloradohumanists.org/event/sunday-brunch-and-discussion-5/
END:VEVENT
BEGIN:VEVENT
DTSTART;TZID=America/Denver:20241017T170000
DTEND;TZID=America/Denver:20241017T190000
DTSTAMP:20260425T222723
CREATED:20241007T131809Z
LAST-MODIFIED:20241007T131809Z
UID:1612-1729184400-1729191600@centralcoloradohumanists.org
SUMMARY:CCH Book Club
DESCRIPTION:The CCH Book Club is reorganizing: \nReorganization Meeting at Jane Jolly’s house\, 5-7pm \n811 G Street\, Salida\,
URL:https://centralcoloradohumanists.org/event/cch-book-club-10/
END:VEVENT
BEGIN:VEVENT
DTSTART;TZID=America/Denver:20241007T140000
DTEND;TZID=America/Denver:20241007T160000
DTSTAMP:20260425T222723
CREATED:20240205T030459Z
LAST-MODIFIED:20240205T030459Z
UID:1440-1728309600-1728316800@centralcoloradohumanists.org
SUMMARY:CCH Board Meeting
DESCRIPTION:monthly board meeting.   location tbd
URL:https://centralcoloradohumanists.org/event/cch-board-meeting-32/
END:VEVENT
BEGIN:VEVENT
DTSTART;TZID=America/Denver:20241006T100000
DTEND;TZID=America/Denver:20241006T120000
DTSTAMP:20260425T222723
CREATED:20240205T024042Z
LAST-MODIFIED:20241002T184927Z
UID:1371-1728208800-1728216000@centralcoloradohumanists.org
SUMMARY:Sunday Science
DESCRIPTION:Economic justifications for biodiversity conservation: a slippery slope? \nTruman Young
URL:https://centralcoloradohumanists.org/event/sunday-science-15/
LOCATION:A Church\, 419 D Street\, Salida\, 210 E Sackett Ave\, Salida\, CO\, 81201\, United States
END:VEVENT
BEGIN:VEVENT
DTSTART;TZID=America/Denver:20241003T160000
DTEND;TZID=America/Denver:20241003T180000
DTSTAMP:20260425T222723
CREATED:20240205T024936Z
LAST-MODIFIED:20240405T215144Z
UID:1404-1727971200-1727978400@centralcoloradohumanists.org
SUMMARY:Stammtisch Buena Vista
DESCRIPTION:Buena Vista Stammtisch: Simple Eatery\, 402 E Main\, Buena Vista\n \nSay ‘Hello’ to old friends and meet new ones over good food\, drink\, and conversation. On the first Thursday of each month\, in Buena Vista\, members and friends of the Central Colorado Humanists gather for an ‘agenda-free’ time of nourishing relationships. \nFrom Wikipedia: A Stammtisch (German: “regulars’ table”) is an informal group meeting held on a regular basis\, and also the usually large\, often round table around which the group meets. A Stammtisch is not a structured meeting\, but rather a friendly get-together.
URL:https://centralcoloradohumanists.org/event/stammtisch-buena-vista-27/
CATEGORIES:CCH Events
END:VEVENT
BEGIN:VEVENT
DTSTART;TZID=America/Denver:20240926T160000
DTEND;TZID=America/Denver:20240926T170000
DTSTAMP:20260425T222723
CREATED:20240205T025651Z
LAST-MODIFIED:20240819T160349Z
UID:1424-1727366400-1727370000@centralcoloradohumanists.org
SUMMARY:Stammtisch\, Salida
DESCRIPTION:Elevation Brewery Co.\, Poncha Springs
URL:https://centralcoloradohumanists.org/event/stammtisch-salida-11/
END:VEVENT
END:VCALENDAR