BEGIN:VCALENDAR
VERSION:2.0
PRODID:-//Central Colorado Humanists - ECPv6.15.20//NONSGML v1.0//EN
CALSCALE:GREGORIAN
METHOD:PUBLISH
X-WR-CALNAME:Central Colorado Humanists
X-ORIGINAL-URL:https://centralcoloradohumanists.org
X-WR-CALDESC:Events for Central Colorado Humanists
REFRESH-INTERVAL;VALUE=DURATION:PT1H
X-Robots-Tag:noindex
X-PUBLISHED-TTL:PT1H
BEGIN:VTIMEZONE
TZID:America/Denver
BEGIN:DAYLIGHT
TZOFFSETFROM:-0700
TZOFFSETTO:-0600
TZNAME:MDT
DTSTART:20240310T090000
END:DAYLIGHT
BEGIN:STANDARD
TZOFFSETFROM:-0600
TZOFFSETTO:-0700
TZNAME:MST
DTSTART:20241103T080000
END:STANDARD
BEGIN:DAYLIGHT
TZOFFSETFROM:-0700
TZOFFSETTO:-0600
TZNAME:MDT
DTSTART:20250309T090000
END:DAYLIGHT
BEGIN:STANDARD
TZOFFSETFROM:-0600
TZOFFSETTO:-0700
TZNAME:MST
DTSTART:20251102T080000
END:STANDARD
BEGIN:DAYLIGHT
TZOFFSETFROM:-0700
TZOFFSETTO:-0600
TZNAME:MDT
DTSTART:20260308T090000
END:DAYLIGHT
BEGIN:STANDARD
TZOFFSETFROM:-0600
TZOFFSETTO:-0700
TZNAME:MST
DTSTART:20261101T080000
END:STANDARD
END:VTIMEZONE
BEGIN:VEVENT
DTSTART;TZID=America/Denver:20251106T160000
DTEND;TZID=America/Denver:20251106T180000
DTSTAMP:20260425T190229
CREATED:20250908T121729Z
LAST-MODIFIED:20250908T121729Z
UID:1844-1762444800-1762452000@centralcoloradohumanists.org
SUMMARY:Stammtisch Buena Vista
DESCRIPTION:Buena Vista Stammtisch: Simple Eatery\, 402 E Main\, Buena Vista\n \nSay ‘Hello’ to old friends and meet new ones over good food\, drink\, and conversation. On the first Thursday of each month\, in Buena Vista\, members and friends of the Central Colorado Humanists gather for an ‘agenda-free’ time of nourishing relationships. \nFrom Wikipedia: A Stammtisch (German: “regulars’ table”) is an informal group meeting held on a regular basis\, and also the usually large\, often round table around which the group meets. A Stammtisch is not a structured meeting\, but rather a friendly get-together.
URL:https://centralcoloradohumanists.org/event/stammtisch-buena-vista-31/
CATEGORIES:CCH Events
END:VEVENT
BEGIN:VEVENT
DTSTART;TZID=America/Denver:20251102T100000
DTEND;TZID=America/Denver:20251102T120000
DTSTAMP:20260425T190229
CREATED:20250826T000806Z
LAST-MODIFIED:20251029T125842Z
UID:1816-1762077600-1762084800@centralcoloradohumanists.org
SUMMARY:Sunday Science
DESCRIPTION:Art Hutchinson   “Pre-Columbian History of Monarch Pass” \nA Church\, Salida\, 419 D Street
URL:https://centralcoloradohumanists.org/event/sunday-science-27/
END:VEVENT
BEGIN:VEVENT
DTSTART;TZID=America/Denver:20251027T170000
DTEND;TZID=America/Denver:20251027T180000
DTSTAMP:20260425T190229
CREATED:20251007T203011Z
LAST-MODIFIED:20251007T203442Z
UID:1856-1761584400-1761588000@centralcoloradohumanists.org
SUMMARY:Book Club
DESCRIPTION:tbd
URL:https://centralcoloradohumanists.org/event/book-club-7/
END:VEVENT
BEGIN:VEVENT
DTSTART;TZID=America/Denver:20251023T160000
DTEND;TZID=America/Denver:20251023T170000
DTSTAMP:20260425T190229
CREATED:20250908T121557Z
LAST-MODIFIED:20250908T121557Z
UID:1843-1761235200-1761238800@centralcoloradohumanists.org
SUMMARY:Stammtisch Salida/Poncha Springs
DESCRIPTION:Golf Cabin Bar & Grill \n404 Grant Street\, Salida
URL:https://centralcoloradohumanists.org/event/stammtisch-salida-poncha-springs-3/
END:VEVENT
BEGIN:VEVENT
DTSTART;TZID=America/Denver:20251019T100000
DTEND;TZID=America/Denver:20251019T130000
DTSTAMP:20260425T190229
CREATED:20250128T223214Z
LAST-MODIFIED:20251007T202833Z
UID:1677-1760868000-1760878800@centralcoloradohumanists.org
SUMMARY:Sunday Brunch and Discussion
DESCRIPTION:Hosted by Layne and Tom Kottmeier \nHannelore Gabriel will lead a discussion around the topic of: \n“Is violence/aggression a natural human trait?”
URL:https://centralcoloradohumanists.org/event/sunday-brunch-and-discussion-11/
END:VEVENT
BEGIN:VEVENT
DTSTART;TZID=America/Denver:20251005T100000
DTEND;TZID=America/Denver:20251005T120000
DTSTAMP:20260425T190229
CREATED:20250826T000639Z
LAST-MODIFIED:20250826T000639Z
UID:1815-1759658400-1759665600@centralcoloradohumanists.org
SUMMARY:Sunday Science
DESCRIPTION:Alicia McLoed   “Bone Health and Nutrition” \nA Church\, Salida\, 419 D Street
URL:https://centralcoloradohumanists.org/event/sunday-science-26/
END:VEVENT
BEGIN:VEVENT
DTSTART;TZID=America/Denver:20251002T160000
DTEND;TZID=America/Denver:20251002T180000
DTSTAMP:20260425T190229
CREATED:20250908T121648Z
LAST-MODIFIED:20250908T121648Z
UID:1842-1759420800-1759428000@centralcoloradohumanists.org
SUMMARY:Stammtisch Buena Vista
DESCRIPTION:Buena Vista Stammtisch: Simple Eatery\, 402 E Main\, Buena Vista\n \nSay ‘Hello’ to old friends and meet new ones over good food\, drink\, and conversation. On the first Thursday of each month\, in Buena Vista\, members and friends of the Central Colorado Humanists gather for an ‘agenda-free’ time of nourishing relationships. \nFrom Wikipedia: A Stammtisch (German: “regulars’ table”) is an informal group meeting held on a regular basis\, and also the usually large\, often round table around which the group meets. A Stammtisch is not a structured meeting\, but rather a friendly get-together.
URL:https://centralcoloradohumanists.org/event/stammtisch-buena-vista-30/
CATEGORIES:CCH Events
END:VEVENT
BEGIN:VEVENT
DTSTART;TZID=America/Denver:20250925T160000
DTEND;TZID=America/Denver:20250925T170000
DTSTAMP:20260425T190229
CREATED:20250908T120852Z
LAST-MODIFIED:20250908T120927Z
UID:1835-1758816000-1758819600@centralcoloradohumanists.org
SUMMARY:Stammtisch Salida/Poncha Springs
DESCRIPTION:Golf Cabin Bar & Grill \n404 Grant Street\, Salida
URL:https://centralcoloradohumanists.org/event/stammtisch-salida-poncha-springs-2/
END:VEVENT
BEGIN:VEVENT
DTSTART;TZID=America/Denver:20250922T170000
DTEND;TZID=America/Denver:20250922T180000
DTSTAMP:20260425T190229
CREATED:20250908T121224Z
LAST-MODIFIED:20250916T193326Z
UID:1838-1758560400-1758564000@centralcoloradohumanists.org
SUMMARY:Book Club
DESCRIPTION:We will meet at the home of Hannelore Gabriel\, 725 G street\, Salida
URL:https://centralcoloradohumanists.org/event/book-club-6/
END:VEVENT
BEGIN:VEVENT
DTSTART;TZID=America/Denver:20250907T100000
DTEND;TZID=America/Denver:20250907T120000
DTSTAMP:20260425T190229
CREATED:20250826T000515Z
LAST-MODIFIED:20250826T000515Z
UID:1814-1757239200-1757246400@centralcoloradohumanists.org
SUMMARY:Sunday Science
DESCRIPTION:Bill Sample   “GPS Technology” \nA Church\, Salida\, 419 D Street
URL:https://centralcoloradohumanists.org/event/sunday-science-25/
END:VEVENT
BEGIN:VEVENT
DTSTART;TZID=America/Denver:20250904T160000
DTEND;TZID=America/Denver:20250904T180000
DTSTAMP:20260425T190229
CREATED:20250318T201322Z
LAST-MODIFIED:20250331T171835Z
UID:1704-1757001600-1757008800@centralcoloradohumanists.org
SUMMARY:Stammtisch Buena Vista
DESCRIPTION:Buena Vista Stammtisch: Simple Eatery\, 402 E Main\, Buena Vista\n \nSay ‘Hello’ to old friends and meet new ones over good food\, drink\, and conversation. On the first Thursday of each month\, in Buena Vista\, members and friends of the Central Colorado Humanists gather for an ‘agenda-free’ time of nourishing relationships. \nFrom Wikipedia: A Stammtisch (German: “regulars’ table”) is an informal group meeting held on a regular basis\, and also the usually large\, often round table around which the group meets. A Stammtisch is not a structured meeting\, but rather a friendly get-together.
URL:https://centralcoloradohumanists.org/event/stammtisch-buena-vista-copy-7/
CATEGORIES:CCH Events
END:VEVENT
BEGIN:VEVENT
DTSTART;TZID=America/Denver:20250831T080000
DTEND;TZID=America/Denver:20250831T140000
DTSTAMP:20260425T190229
CREATED:20250502T200949Z
LAST-MODIFIED:20250725T160515Z
UID:1757-1756627200-1756648800@centralcoloradohumanists.org
SUMMARY:Yard Sale\, final day
DESCRIPTION:CCH Scholarship Fund Yard Sale\,  final day and clean-up \n647 H Street\, Salida
URL:https://centralcoloradohumanists.org/event/yard-sale-final-day/
END:VEVENT
BEGIN:VEVENT
DTSTART;TZID=America/Denver:20250830T080000
DTEND;TZID=America/Denver:20250830T170000
DTSTAMP:20260425T190229
CREATED:20250502T200825Z
LAST-MODIFIED:20250725T160439Z
UID:1755-1756540800-1756573200@centralcoloradohumanists.org
SUMMARY:Yard Sale day 3
DESCRIPTION:CCH Scholarship Fund Yard Sale Day #3 \n647 H Street\, Salida
URL:https://centralcoloradohumanists.org/event/yard-sale-day-3/
END:VEVENT
BEGIN:VEVENT
DTSTART;TZID=America/Denver:20250829T080000
DTEND;TZID=America/Denver:20250829T170000
DTSTAMP:20260425T190229
CREATED:20250502T200739Z
LAST-MODIFIED:20250725T160403Z
UID:1753-1756454400-1756486800@centralcoloradohumanists.org
SUMMARY:Yard Sale\, day 2
DESCRIPTION:CCH Scholarship Fund yard sale\,   day #2 \n647 H Street\, Salida
URL:https://centralcoloradohumanists.org/event/yard-sale-day-2/
END:VEVENT
BEGIN:VEVENT
DTSTART;TZID=America/Denver:20250828T160000
DTEND;TZID=America/Denver:20250828T180000
DTSTAMP:20260425T190229
CREATED:20250318T200722Z
LAST-MODIFIED:20250331T171823Z
UID:1698-1756396800-1756404000@centralcoloradohumanists.org
SUMMARY:Salida / Poncha Springs Stammtisch
DESCRIPTION:Elevation Beer Company\, 4pm
URL:https://centralcoloradohumanists.org/event/salida-poncha-springs-stammtisch-copy-6/
END:VEVENT
BEGIN:VEVENT
DTSTART;TZID=America/Denver:20250828T090000
DTEND;TZID=America/Denver:20250828T120000
DTSTAMP:20260425T190229
CREATED:20250502T200651Z
LAST-MODIFIED:20250827T160425Z
UID:1751-1756371600-1756382400@centralcoloradohumanists.org
SUMMARY:Yard Sale\, items drop off day
DESCRIPTION:Drop off items for the yard sale \n647 H Street\, Salida
URL:https://centralcoloradohumanists.org/event/yard-sale-day-1/
END:VEVENT
BEGIN:VEVENT
DTSTART;TZID=America/Denver:20250817T100000
DTEND;TZID=America/Denver:20250817T130000
DTSTAMP:20260425T190229
CREATED:20250128T222952Z
LAST-MODIFIED:20250725T160224Z
UID:1675-1755424800-1755435600@centralcoloradohumanists.org
SUMMARY:Sunday Brunch and discussion
DESCRIPTION:Hosted by Gay and John Werman \nDirections and topic tbd \n 
URL:https://centralcoloradohumanists.org/event/sunday-brunch-and-discussion-10/
END:VEVENT
BEGIN:VEVENT
DTSTART;TZID=America/Denver:20250807T160000
DTEND;TZID=America/Denver:20250807T180000
DTSTAMP:20260425T190229
CREATED:20250318T201254Z
LAST-MODIFIED:20250331T171728Z
UID:1705-1754582400-1754589600@centralcoloradohumanists.org
SUMMARY:Stammtisch Buena Vista
DESCRIPTION:Buena Vista Stammtisch: Simple Eatery\, 402 E Main\, Buena Vista\n \nSay ‘Hello’ to old friends and meet new ones over good food\, drink\, and conversation. On the first Thursday of each month\, in Buena Vista\, members and friends of the Central Colorado Humanists gather for an ‘agenda-free’ time of nourishing relationships. \nFrom Wikipedia: A Stammtisch (German: “regulars’ table”) is an informal group meeting held on a regular basis\, and also the usually large\, often round table around which the group meets. A Stammtisch is not a structured meeting\, but rather a friendly get-together.
URL:https://centralcoloradohumanists.org/event/stammtisch-buena-vista-copy-6/
CATEGORIES:CCH Events
END:VEVENT
BEGIN:VEVENT
DTSTART;TZID=America/Denver:20250803T100000
DTEND;TZID=America/Denver:20250803T120000
DTSTAMP:20260425T190229
CREATED:20250502T201503Z
LAST-MODIFIED:20250725T160044Z
UID:1761-1754215200-1754222400@centralcoloradohumanists.org
SUMMARY:Sunday Science
DESCRIPTION:Dan Bishop   “The Future of Energy” \n“A” Church\, Salida\, 419 D Street
URL:https://centralcoloradohumanists.org/event/sunday-science-23/
END:VEVENT
BEGIN:VEVENT
DTSTART;TZID=America/Denver:20250725T170000
DTEND;TZID=America/Denver:20250725T180000
DTSTAMP:20260425T190229
CREATED:20250725T160955Z
LAST-MODIFIED:20250725T160955Z
UID:1786-1753462800-1753466400@centralcoloradohumanists.org
SUMMARY:Book Club
DESCRIPTION:Hosted by Svata Louda and Rob Otley\,   538 Crestone\, Ave.\, Salida \n“The Anxious Generation” by J. Haidt
URL:https://centralcoloradohumanists.org/event/book-club-5/
END:VEVENT
BEGIN:VEVENT
DTSTART;TZID=America/Denver:20250724T160000
DTEND;TZID=America/Denver:20250724T180000
DTSTAMP:20260425T190229
CREATED:20250318T200650Z
LAST-MODIFIED:20250331T171717Z
UID:1699-1753372800-1753380000@centralcoloradohumanists.org
SUMMARY:Salida / Poncha Springs Stammtisch
DESCRIPTION:Elevation Beer Company\, 4pm
URL:https://centralcoloradohumanists.org/event/salida-poncha-springs-stammtisch-copy-5/
END:VEVENT
BEGIN:VEVENT
DTSTART;TZID=America/Denver:20250713T150000
DTEND;TZID=America/Denver:20250713T180000
DTSTAMP:20260425T190229
CREATED:20250224T221451Z
LAST-MODIFIED:20250703T195123Z
UID:1691-1752418800-1752429600@centralcoloradohumanists.org
SUMMARY:CCH Picnic!
DESCRIPTION:Angel of Shavano Campground.   See newsletter for link\, map\, and directions.
URL:https://centralcoloradohumanists.org/event/cch-picnic-2/
END:VEVENT
BEGIN:VEVENT
DTSTART;TZID=America/Denver:20250706T100000
DTEND;TZID=America/Denver:20250706T120000
DTSTAMP:20260425T190229
CREATED:20250502T201116Z
LAST-MODIFIED:20250504T232018Z
UID:1759-1751796000-1751803200@centralcoloradohumanists.org
SUMMARY:Sunday Science
DESCRIPTION:Are GMO’s Compatible with Regenerative Agricultural Practices? \nJohn Mattingly \n“A” Church\, Salida\, (4th and D-Street)
URL:https://centralcoloradohumanists.org/event/sunday-science-22/
END:VEVENT
BEGIN:VEVENT
DTSTART;TZID=America/Denver:20250703T160000
DTEND;TZID=America/Denver:20250703T180000
DTSTAMP:20260425T190229
CREATED:20250318T201223Z
LAST-MODIFIED:20250331T171638Z
UID:1706-1751558400-1751565600@centralcoloradohumanists.org
SUMMARY:Stammtisch Buena Vista
DESCRIPTION:Buena Vista Stammtisch: Simple Eatery\, 402 E Main\, Buena Vista\n \nSay ‘Hello’ to old friends and meet new ones over good food\, drink\, and conversation. On the first Thursday of each month\, in Buena Vista\, members and friends of the Central Colorado Humanists gather for an ‘agenda-free’ time of nourishing relationships. \nFrom Wikipedia: A Stammtisch (German: “regulars’ table”) is an informal group meeting held on a regular basis\, and also the usually large\, often round table around which the group meets. A Stammtisch is not a structured meeting\, but rather a friendly get-together.
URL:https://centralcoloradohumanists.org/event/stammtisch-buena-vista-copy-5/
CATEGORIES:CCH Events
END:VEVENT
BEGIN:VEVENT
DTSTART;TZID=America/Denver:20250626T160000
DTEND;TZID=America/Denver:20250626T180000
DTSTAMP:20260425T190229
CREATED:20250318T200555Z
LAST-MODIFIED:20250331T171658Z
UID:1700-1750953600-1750960800@centralcoloradohumanists.org
SUMMARY:Salida / Poncha Springs Stammtisch
DESCRIPTION:Elevation Beer Company\, 4pm
URL:https://centralcoloradohumanists.org/event/salida-poncha-springs-stammtisch-copy-4/
END:VEVENT
BEGIN:VEVENT
DTSTART;TZID=America/Denver:20250616T170000
DTEND;TZID=America/Denver:20250616T190000
DTSTAMP:20260425T190229
CREATED:20250526T200252Z
LAST-MODIFIED:20250526T200252Z
UID:1772-1750093200-1750100400@centralcoloradohumanists.org
SUMMARY:Book Club
DESCRIPTION:9920 Feather Lane\, Salida (Candace Weiss) \nThe Anxious Generation: How the Great Rewiring of Childhood Is Causing an Epidemic of Mental Illness by Jonathan Haidt.
URL:https://centralcoloradohumanists.org/event/book-club-4/
END:VEVENT
BEGIN:VEVENT
DTSTART;TZID=America/Denver:20250615T100000
DTEND;TZID=America/Denver:20250615T120000
DTSTAMP:20260425T190229
CREATED:20250128T222851Z
LAST-MODIFIED:20250526T195934Z
UID:1673-1749981600-1749988800@centralcoloradohumanists.org
SUMMARY:Sunday Brunch & Discussion
DESCRIPTION:Hosted by Lydia and Joe \n328 Water Street\, Buena Vista \n“Political and Cultural Polarization”
URL:https://centralcoloradohumanists.org/event/sunday-brunch-discussion/
END:VEVENT
BEGIN:VEVENT
DTSTART;TZID=America/Denver:20250605T160000
DTEND;TZID=America/Denver:20250605T180000
DTSTAMP:20260425T190229
CREATED:20250318T201153Z
LAST-MODIFIED:20250331T171648Z
UID:1707-1749139200-1749146400@centralcoloradohumanists.org
SUMMARY:Stammtisch Buena Vista
DESCRIPTION:Buena Vista Stammtisch: Simple Eatery\, 402 E Main\, Buena Vista\n \nSay ‘Hello’ to old friends and meet new ones over good food\, drink\, and conversation. On the first Thursday of each month\, in Buena Vista\, members and friends of the Central Colorado Humanists gather for an ‘agenda-free’ time of nourishing relationships. \nFrom Wikipedia: A Stammtisch (German: “regulars’ table”) is an informal group meeting held on a regular basis\, and also the usually large\, often round table around which the group meets. A Stammtisch is not a structured meeting\, but rather a friendly get-together.
URL:https://centralcoloradohumanists.org/event/stammtisch-buena-vista-copy-4/
CATEGORIES:CCH Events
END:VEVENT
BEGIN:VEVENT
DTSTART;TZID=America/Denver:20250602T113000
DTEND;TZID=America/Denver:20250602T133000
DTSTAMP:20260425T190229
CREATED:20250502T195627Z
LAST-MODIFIED:20250502T195755Z
UID:1745-1748863800-1748871000@centralcoloradohumanists.org
SUMMARY:Ad Hoc Scholarship guidance meeting
DESCRIPTION:Help CCH chart the future of the scholarship program \nSalida Library\,  Tolkien Room
URL:https://centralcoloradohumanists.org/event/ad-hoc-scholarship-guidance-meeting/
END:VEVENT
BEGIN:VEVENT
DTSTART;TZID=America/Denver:20250601T100000
DTEND;TZID=America/Denver:20250601T120000
DTSTAMP:20260425T190229
CREATED:20250504T232147Z
LAST-MODIFIED:20250504T232147Z
UID:1766-1748772000-1748779200@centralcoloradohumanists.org
SUMMARY:Sunday Science
DESCRIPTION:FIRST Robotics \nKate Sample \n“A” Church\, 419 D Street\, Salida
URL:https://centralcoloradohumanists.org/event/sunday-science-24/
END:VEVENT
END:VCALENDAR