BEGIN:VCALENDAR
VERSION:2.0
PRODID:-//Central Colorado Humanists - ECPv6.15.20//NONSGML v1.0//EN
CALSCALE:GREGORIAN
METHOD:PUBLISH
X-WR-CALNAME:Central Colorado Humanists
X-ORIGINAL-URL:https://centralcoloradohumanists.org
X-WR-CALDESC:Events for Central Colorado Humanists
REFRESH-INTERVAL;VALUE=DURATION:PT1H
X-Robots-Tag:noindex
X-PUBLISHED-TTL:PT1H
BEGIN:VTIMEZONE
TZID:America/Denver
BEGIN:DAYLIGHT
TZOFFSETFROM:-0700
TZOFFSETTO:-0600
TZNAME:MDT
DTSTART:20220313T090000
END:DAYLIGHT
BEGIN:STANDARD
TZOFFSETFROM:-0600
TZOFFSETTO:-0700
TZNAME:MST
DTSTART:20221106T080000
END:STANDARD
BEGIN:DAYLIGHT
TZOFFSETFROM:-0700
TZOFFSETTO:-0600
TZNAME:MDT
DTSTART:20230312T090000
END:DAYLIGHT
BEGIN:STANDARD
TZOFFSETFROM:-0600
TZOFFSETTO:-0700
TZNAME:MST
DTSTART:20231105T080000
END:STANDARD
BEGIN:DAYLIGHT
TZOFFSETFROM:-0700
TZOFFSETTO:-0600
TZNAME:MDT
DTSTART:20240310T090000
END:DAYLIGHT
BEGIN:STANDARD
TZOFFSETFROM:-0600
TZOFFSETTO:-0700
TZNAME:MST
DTSTART:20241103T080000
END:STANDARD
BEGIN:DAYLIGHT
TZOFFSETFROM:-0700
TZOFFSETTO:-0600
TZNAME:MDT
DTSTART:20250309T090000
END:DAYLIGHT
BEGIN:STANDARD
TZOFFSETFROM:-0600
TZOFFSETTO:-0700
TZNAME:MST
DTSTART:20251102T080000
END:STANDARD
BEGIN:DAYLIGHT
TZOFFSETFROM:-0700
TZOFFSETTO:-0600
TZNAME:MDT
DTSTART:20260308T090000
END:DAYLIGHT
BEGIN:STANDARD
TZOFFSETFROM:-0600
TZOFFSETTO:-0700
TZNAME:MST
DTSTART:20261101T080000
END:STANDARD
BEGIN:DAYLIGHT
TZOFFSETFROM:-0700
TZOFFSETTO:-0600
TZNAME:MDT
DTSTART:20270314T090000
END:DAYLIGHT
BEGIN:STANDARD
TZOFFSETFROM:-0600
TZOFFSETTO:-0700
TZNAME:MST
DTSTART:20271107T080000
END:STANDARD
END:VTIMEZONE
BEGIN:VEVENT
DTSTART;TZID=America/Denver:20260301T235900
DTEND;TZID=America/Denver:20260301T235900
DTSTAMP:20260425T183958
CREATED:20260127T212655Z
LAST-MODIFIED:20260127T213224Z
UID:1963-1772409540-1772409540@centralcoloradohumanists.org
SUMMARY:2026 Scholarship Deadline
DESCRIPTION:All application materials for the CCH 2026 scholarships must be complete and submitted by March 1\, 2026. \n 
URL:https://centralcoloradohumanists.org/event/2026-scholarship-deadline/
CATEGORIES:CCH Events
END:VEVENT
BEGIN:VEVENT
DTSTART;TZID=America/Denver:20260108T160000
DTEND;TZID=America/Denver:20260108T180000
DTSTAMP:20260425T183958
CREATED:20251205T152036Z
LAST-MODIFIED:20251205T152036Z
UID:1911-1767888000-1767895200@centralcoloradohumanists.org
SUMMARY:Stammtisch Buena Vista
DESCRIPTION:Buena Vista Stammtisch: Simple Eatery\, 402 E Main\, Buena Vista\n \nSay ‘Hello’ to old friends and meet new ones over good food\, drink\, and conversation. On the first Thursday of each month\, in Buena Vista\, members and friends of the Central Colorado Humanists gather for an ‘agenda-free’ time of nourishing relationships. \nFrom Wikipedia: A Stammtisch (German: “regulars’ table”) is an informal group meeting held on a regular basis\, and also the usually large\, often round table around which the group meets. A Stammtisch is not a structured meeting\, but rather a friendly get-together.
URL:https://centralcoloradohumanists.org/event/stammtisch-buena-vista-33/
CATEGORIES:CCH Events
END:VEVENT
BEGIN:VEVENT
DTSTART;TZID=America/Denver:20251204T160000
DTEND;TZID=America/Denver:20251204T180000
DTSTAMP:20260425T183958
CREATED:20251202T213241Z
LAST-MODIFIED:20251202T213241Z
UID:1903-1764864000-1764871200@centralcoloradohumanists.org
SUMMARY:Stammtisch Buena Vista
DESCRIPTION:Buena Vista Stammtisch: Simple Eatery\, 402 E Main\, Buena Vista\n \nSay ‘Hello’ to old friends and meet new ones over good food\, drink\, and conversation. On the first Thursday of each month\, in Buena Vista\, members and friends of the Central Colorado Humanists gather for an ‘agenda-free’ time of nourishing relationships. \nFrom Wikipedia: A Stammtisch (German: “regulars’ table”) is an informal group meeting held on a regular basis\, and also the usually large\, often round table around which the group meets. A Stammtisch is not a structured meeting\, but rather a friendly get-together.
URL:https://centralcoloradohumanists.org/event/stammtisch-buena-vista-32/
CATEGORIES:CCH Events
END:VEVENT
BEGIN:VEVENT
DTSTART;TZID=America/Denver:20251106T160000
DTEND;TZID=America/Denver:20251106T180000
DTSTAMP:20260425T183958
CREATED:20250908T121729Z
LAST-MODIFIED:20250908T121729Z
UID:1844-1762444800-1762452000@centralcoloradohumanists.org
SUMMARY:Stammtisch Buena Vista
DESCRIPTION:Buena Vista Stammtisch: Simple Eatery\, 402 E Main\, Buena Vista\n \nSay ‘Hello’ to old friends and meet new ones over good food\, drink\, and conversation. On the first Thursday of each month\, in Buena Vista\, members and friends of the Central Colorado Humanists gather for an ‘agenda-free’ time of nourishing relationships. \nFrom Wikipedia: A Stammtisch (German: “regulars’ table”) is an informal group meeting held on a regular basis\, and also the usually large\, often round table around which the group meets. A Stammtisch is not a structured meeting\, but rather a friendly get-together.
URL:https://centralcoloradohumanists.org/event/stammtisch-buena-vista-31/
CATEGORIES:CCH Events
END:VEVENT
BEGIN:VEVENT
DTSTART;TZID=America/Denver:20251002T160000
DTEND;TZID=America/Denver:20251002T180000
DTSTAMP:20260425T183958
CREATED:20250908T121648Z
LAST-MODIFIED:20250908T121648Z
UID:1842-1759420800-1759428000@centralcoloradohumanists.org
SUMMARY:Stammtisch Buena Vista
DESCRIPTION:Buena Vista Stammtisch: Simple Eatery\, 402 E Main\, Buena Vista\n \nSay ‘Hello’ to old friends and meet new ones over good food\, drink\, and conversation. On the first Thursday of each month\, in Buena Vista\, members and friends of the Central Colorado Humanists gather for an ‘agenda-free’ time of nourishing relationships. \nFrom Wikipedia: A Stammtisch (German: “regulars’ table”) is an informal group meeting held on a regular basis\, and also the usually large\, often round table around which the group meets. A Stammtisch is not a structured meeting\, but rather a friendly get-together.
URL:https://centralcoloradohumanists.org/event/stammtisch-buena-vista-30/
CATEGORIES:CCH Events
END:VEVENT
BEGIN:VEVENT
DTSTART;TZID=America/Denver:20250904T160000
DTEND;TZID=America/Denver:20250904T180000
DTSTAMP:20260425T183958
CREATED:20250318T201322Z
LAST-MODIFIED:20250331T171835Z
UID:1704-1757001600-1757008800@centralcoloradohumanists.org
SUMMARY:Stammtisch Buena Vista
DESCRIPTION:Buena Vista Stammtisch: Simple Eatery\, 402 E Main\, Buena Vista\n \nSay ‘Hello’ to old friends and meet new ones over good food\, drink\, and conversation. On the first Thursday of each month\, in Buena Vista\, members and friends of the Central Colorado Humanists gather for an ‘agenda-free’ time of nourishing relationships. \nFrom Wikipedia: A Stammtisch (German: “regulars’ table”) is an informal group meeting held on a regular basis\, and also the usually large\, often round table around which the group meets. A Stammtisch is not a structured meeting\, but rather a friendly get-together.
URL:https://centralcoloradohumanists.org/event/stammtisch-buena-vista-copy-7/
CATEGORIES:CCH Events
END:VEVENT
BEGIN:VEVENT
DTSTART;TZID=America/Denver:20250807T160000
DTEND;TZID=America/Denver:20250807T180000
DTSTAMP:20260425T183958
CREATED:20250318T201254Z
LAST-MODIFIED:20250331T171728Z
UID:1705-1754582400-1754589600@centralcoloradohumanists.org
SUMMARY:Stammtisch Buena Vista
DESCRIPTION:Buena Vista Stammtisch: Simple Eatery\, 402 E Main\, Buena Vista\n \nSay ‘Hello’ to old friends and meet new ones over good food\, drink\, and conversation. On the first Thursday of each month\, in Buena Vista\, members and friends of the Central Colorado Humanists gather for an ‘agenda-free’ time of nourishing relationships. \nFrom Wikipedia: A Stammtisch (German: “regulars’ table”) is an informal group meeting held on a regular basis\, and also the usually large\, often round table around which the group meets. A Stammtisch is not a structured meeting\, but rather a friendly get-together.
URL:https://centralcoloradohumanists.org/event/stammtisch-buena-vista-copy-6/
CATEGORIES:CCH Events
END:VEVENT
BEGIN:VEVENT
DTSTART;TZID=America/Denver:20250703T160000
DTEND;TZID=America/Denver:20250703T180000
DTSTAMP:20260425T183958
CREATED:20250318T201223Z
LAST-MODIFIED:20250331T171638Z
UID:1706-1751558400-1751565600@centralcoloradohumanists.org
SUMMARY:Stammtisch Buena Vista
DESCRIPTION:Buena Vista Stammtisch: Simple Eatery\, 402 E Main\, Buena Vista\n \nSay ‘Hello’ to old friends and meet new ones over good food\, drink\, and conversation. On the first Thursday of each month\, in Buena Vista\, members and friends of the Central Colorado Humanists gather for an ‘agenda-free’ time of nourishing relationships. \nFrom Wikipedia: A Stammtisch (German: “regulars’ table”) is an informal group meeting held on a regular basis\, and also the usually large\, often round table around which the group meets. A Stammtisch is not a structured meeting\, but rather a friendly get-together.
URL:https://centralcoloradohumanists.org/event/stammtisch-buena-vista-copy-5/
CATEGORIES:CCH Events
END:VEVENT
BEGIN:VEVENT
DTSTART;TZID=America/Denver:20250605T160000
DTEND;TZID=America/Denver:20250605T180000
DTSTAMP:20260425T183958
CREATED:20250318T201153Z
LAST-MODIFIED:20250331T171648Z
UID:1707-1749139200-1749146400@centralcoloradohumanists.org
SUMMARY:Stammtisch Buena Vista
DESCRIPTION:Buena Vista Stammtisch: Simple Eatery\, 402 E Main\, Buena Vista\n \nSay ‘Hello’ to old friends and meet new ones over good food\, drink\, and conversation. On the first Thursday of each month\, in Buena Vista\, members and friends of the Central Colorado Humanists gather for an ‘agenda-free’ time of nourishing relationships. \nFrom Wikipedia: A Stammtisch (German: “regulars’ table”) is an informal group meeting held on a regular basis\, and also the usually large\, often round table around which the group meets. A Stammtisch is not a structured meeting\, but rather a friendly get-together.
URL:https://centralcoloradohumanists.org/event/stammtisch-buena-vista-copy-4/
CATEGORIES:CCH Events
END:VEVENT
BEGIN:VEVENT
DTSTART;TZID=America/Denver:20250501T160000
DTEND;TZID=America/Denver:20250501T180000
DTSTAMP:20260425T183958
CREATED:20250318T201121Z
LAST-MODIFIED:20250331T171739Z
UID:1708-1746115200-1746122400@centralcoloradohumanists.org
SUMMARY:Stammtisch Buena Vista
DESCRIPTION:Buena Vista Stammtisch: Simple Eatery\, 402 E Main\, Buena Vista\n \nSay ‘Hello’ to old friends and meet new ones over good food\, drink\, and conversation. On the first Thursday of each month\, in Buena Vista\, members and friends of the Central Colorado Humanists gather for an ‘agenda-free’ time of nourishing relationships. \nFrom Wikipedia: A Stammtisch (German: “regulars’ table”) is an informal group meeting held on a regular basis\, and also the usually large\, often round table around which the group meets. A Stammtisch is not a structured meeting\, but rather a friendly get-together.
URL:https://centralcoloradohumanists.org/event/stammtisch-buena-vista-copy-3/
CATEGORIES:CCH Events
END:VEVENT
BEGIN:VEVENT
DTSTART;TZID=America/Denver:20250403T160000
DTEND;TZID=America/Denver:20250403T180000
DTSTAMP:20260425T183958
CREATED:20250318T201051Z
LAST-MODIFIED:20250331T171801Z
UID:1709-1743696000-1743703200@centralcoloradohumanists.org
SUMMARY:Stammtisch Buena Vista
DESCRIPTION:Buena Vista Stammtisch: Simple Eatery\, 402 E Main\, Buena Vista\n \nSay ‘Hello’ to old friends and meet new ones over good food\, drink\, and conversation. On the first Thursday of each month\, in Buena Vista\, members and friends of the Central Colorado Humanists gather for an ‘agenda-free’ time of nourishing relationships. \nFrom Wikipedia: A Stammtisch (German: “regulars’ table”) is an informal group meeting held on a regular basis\, and also the usually large\, often round table around which the group meets. A Stammtisch is not a structured meeting\, but rather a friendly get-together.
URL:https://centralcoloradohumanists.org/event/stammtisch-buena-vista-copy-2/
CATEGORIES:CCH Events
END:VEVENT
BEGIN:VEVENT
DTSTART;TZID=America/Denver:20250206T160000
DTEND;TZID=America/Denver:20250206T180000
DTSTAMP:20260425T183958
CREATED:20241227T230445Z
LAST-MODIFIED:20250128T221623Z
UID:1648-1738857600-1738864800@centralcoloradohumanists.org
SUMMARY:Stammtisch Buena Vista
DESCRIPTION:Buena Vista Stammtisch: Simple Eatery\, 402 E Main\, Buena Vista\n \nSay ‘Hello’ to old friends and meet new ones over good food\, drink\, and conversation. On the first Thursday of each month\, in Buena Vista\, members and friends of the Central Colorado Humanists gather for an ‘agenda-free’ time of nourishing relationships. \nFrom Wikipedia: A Stammtisch (German: “regulars’ table”) is an informal group meeting held on a regular basis\, and also the usually large\, often round table around which the group meets. A Stammtisch is not a structured meeting\, but rather a friendly get-together.
URL:https://centralcoloradohumanists.org/event/stammtisch-buena-vista-29/
CATEGORIES:CCH Events
END:VEVENT
BEGIN:VEVENT
DTSTART;TZID=America/Denver:20250102T160000
DTEND;TZID=America/Denver:20250102T180000
DTSTAMP:20260425T183958
CREATED:20241124T225004Z
LAST-MODIFIED:20241227T225800Z
UID:1632-1735833600-1735840800@centralcoloradohumanists.org
SUMMARY:Stammtisch Buena Vista
DESCRIPTION:Buena Vista Stammtisch: Simple Eatery\, 402 E Main\, Buena Vista\n \nSay ‘Hello’ to old friends and meet new ones over good food\, drink\, and conversation. On the first Thursday of each month\, in Buena Vista\, members and friends of the Central Colorado Humanists gather for an ‘agenda-free’ time of nourishing relationships. \nFrom Wikipedia: A Stammtisch (German: “regulars’ table”) is an informal group meeting held on a regular basis\, and also the usually large\, often round table around which the group meets. A Stammtisch is not a structured meeting\, but rather a friendly get-together.
URL:https://centralcoloradohumanists.org/event/stammtisch-buena-vista-copy-copy/
CATEGORIES:CCH Events
END:VEVENT
BEGIN:VEVENT
DTSTART;TZID=America/Denver:20241107T160000
DTEND;TZID=America/Denver:20241107T180000
DTSTAMP:20260425T183958
CREATED:20240205T025015Z
LAST-MODIFIED:20240405T215224Z
UID:1406-1730995200-1731002400@centralcoloradohumanists.org
SUMMARY:Stammtisch Buena Vista
DESCRIPTION:Buena Vista Stammtisch: Simple Eatery\, 402 E Main\, Buena Vista\n \nSay ‘Hello’ to old friends and meet new ones over good food\, drink\, and conversation. On the first Thursday of each month\, in Buena Vista\, members and friends of the Central Colorado Humanists gather for an ‘agenda-free’ time of nourishing relationships. \nFrom Wikipedia: A Stammtisch (German: “regulars’ table”) is an informal group meeting held on a regular basis\, and also the usually large\, often round table around which the group meets. A Stammtisch is not a structured meeting\, but rather a friendly get-together.
URL:https://centralcoloradohumanists.org/event/stammtisch-buena-vista-28/
CATEGORIES:CCH Events
END:VEVENT
BEGIN:VEVENT
DTSTART;TZID=America/Denver:20241003T160000
DTEND;TZID=America/Denver:20241003T180000
DTSTAMP:20260425T183958
CREATED:20240205T024936Z
LAST-MODIFIED:20240405T215144Z
UID:1404-1727971200-1727978400@centralcoloradohumanists.org
SUMMARY:Stammtisch Buena Vista
DESCRIPTION:Buena Vista Stammtisch: Simple Eatery\, 402 E Main\, Buena Vista\n \nSay ‘Hello’ to old friends and meet new ones over good food\, drink\, and conversation. On the first Thursday of each month\, in Buena Vista\, members and friends of the Central Colorado Humanists gather for an ‘agenda-free’ time of nourishing relationships. \nFrom Wikipedia: A Stammtisch (German: “regulars’ table”) is an informal group meeting held on a regular basis\, and also the usually large\, often round table around which the group meets. A Stammtisch is not a structured meeting\, but rather a friendly get-together.
URL:https://centralcoloradohumanists.org/event/stammtisch-buena-vista-27/
CATEGORIES:CCH Events
END:VEVENT
BEGIN:VEVENT
DTSTART;TZID=America/Denver:20240905T160000
DTEND;TZID=America/Denver:20240905T180000
DTSTAMP:20260425T183958
CREATED:20240205T024859Z
LAST-MODIFIED:20240405T215055Z
UID:1402-1725552000-1725559200@centralcoloradohumanists.org
SUMMARY:Stammtisch Buena Vista
DESCRIPTION:Buena Vista Stammtisch: Simple Eatery\, 402 E Main\, Buena Vista\n \nSay ‘Hello’ to old friends and meet new ones over good food\, drink\, and conversation. On the first Thursday of each month\, in Buena Vista\, members and friends of the Central Colorado Humanists gather for an ‘agenda-free’ time of nourishing relationships. \nFrom Wikipedia: A Stammtisch (German: “regulars’ table”) is an informal group meeting held on a regular basis\, and also the usually large\, often round table around which the group meets. A Stammtisch is not a structured meeting\, but rather a friendly get-together.
URL:https://centralcoloradohumanists.org/event/stammtisch-buena-vista-26/
CATEGORIES:CCH Events
END:VEVENT
BEGIN:VEVENT
DTSTART;TZID=America/Denver:20240801T160000
DTEND;TZID=America/Denver:20240801T180000
DTSTAMP:20260425T183958
CREATED:20240205T024818Z
LAST-MODIFIED:20240405T215007Z
UID:1400-1722528000-1722535200@centralcoloradohumanists.org
SUMMARY:Stammtisch Buena Vista
DESCRIPTION:Buena Vista Stammtisch: Simple Eatery\, 402 E Main\, Buena Vista\n \nSay ‘Hello’ to old friends and meet new ones over good food\, drink\, and conversation. On the first Thursday of each month\, in Buena Vista\, members and friends of the Central Colorado Humanists gather for an ‘agenda-free’ time of nourishing relationships. \nFrom Wikipedia: A Stammtisch (German: “regulars’ table”) is an informal group meeting held on a regular basis\, and also the usually large\, often round table around which the group meets. A Stammtisch is not a structured meeting\, but rather a friendly get-together.
URL:https://centralcoloradohumanists.org/event/stammtisch-buena-vista-25/
CATEGORIES:CCH Events
END:VEVENT
BEGIN:VEVENT
DTSTART;TZID=America/Denver:20240704T160000
DTEND;TZID=America/Denver:20240704T180000
DTSTAMP:20260425T183958
CREATED:20240205T024733Z
LAST-MODIFIED:20240405T214852Z
UID:1398-1720108800-1720116000@centralcoloradohumanists.org
SUMMARY:Stammtisch Buena Vista
DESCRIPTION:Buena Vista Stammtisch: Simple Eatery\, 402 E Main\, Buena Vista\n \nSay ‘Hello’ to old friends and meet new ones over good food\, drink\, and conversation. On the first Thursday of each month\, in Buena Vista\, members and friends of the Central Colorado Humanists gather for an ‘agenda-free’ time of nourishing relationships. \nFrom Wikipedia: A Stammtisch (German: “regulars’ table”) is an informal group meeting held on a regular basis\, and also the usually large\, often round table around which the group meets. A Stammtisch is not a structured meeting\, but rather a friendly get-together.
URL:https://centralcoloradohumanists.org/event/stammtisch-buena-vista-24/
CATEGORIES:CCH Events
END:VEVENT
BEGIN:VEVENT
DTSTART;TZID=America/Denver:20240606T160000
DTEND;TZID=America/Denver:20240606T180000
DTSTAMP:20260425T183958
CREATED:20240205T024648Z
LAST-MODIFIED:20240405T214811Z
UID:1396-1717689600-1717696800@centralcoloradohumanists.org
SUMMARY:Stammtisch Buena Vista
DESCRIPTION:Buena Vista Stammtisch: Simple Eatery\, 402 E Main\, Buena Vista\n \nSay ‘Hello’ to old friends and meet new ones over good food\, drink\, and conversation. On the first Thursday of each month\, in Buena Vista\, members and friends of the Central Colorado Humanists gather for an ‘agenda-free’ time of nourishing relationships. \nFrom Wikipedia: A Stammtisch (German: “regulars’ table”) is an informal group meeting held on a regular basis\, and also the usually large\, often round table around which the group meets. A Stammtisch is not a structured meeting\, but rather a friendly get-together.
URL:https://centralcoloradohumanists.org/event/stammtisch-buena-vista-23/
CATEGORIES:CCH Events
END:VEVENT
BEGIN:VEVENT
DTSTART;TZID=America/Denver:20240502T160000
DTEND;TZID=America/Denver:20240502T180000
DTSTAMP:20260425T183958
CREATED:20240205T024605Z
LAST-MODIFIED:20240405T214722Z
UID:1394-1714665600-1714672800@centralcoloradohumanists.org
SUMMARY:Stammtisch Buena Vista
DESCRIPTION:Buena Vista Stammtisch: Simple Eatery\, 402 E. Main\, Buena Vista\n \nSay ‘Hello’ to old friends and meet new ones over good food\, drink\, and conversation. On the first Thursday of each month\, in Buena Vista\, members and friends of the Central Colorado Humanists gather for an ‘agenda-free’ time of nourishing relationships. \nFrom Wikipedia: A Stammtisch (German: “regulars’ table”) is an informal group meeting held on a regular basis\, and also the usually large\, often round table around which the group meets. A Stammtisch is not a structured meeting\, but rather a friendly get-together.
URL:https://centralcoloradohumanists.org/event/stammtisch-buena-vista-22/
CATEGORIES:CCH Events
END:VEVENT
BEGIN:VEVENT
DTSTART;TZID=America/Denver:20240404T160000
DTEND;TZID=America/Denver:20240404T180000
DTSTAMP:20260425T183958
CREATED:20240205T024519Z
LAST-MODIFIED:20240205T024519Z
UID:1392-1712246400-1712253600@centralcoloradohumanists.org
SUMMARY:Stammtisch Buena Vista
DESCRIPTION:Buena Vista Stammtisch: Sangre de Cristo Electric Community Room.\n \nSay ‘Hello’ to old friends and meet new ones over good food\, drink\, and conversation. On the first Thursday of each month\, in Buena Vista\, members and friends of the Central Colorado Humanists gather for an ‘agenda-free’ time of nourishing relationships. \nFrom Wikipedia: A Stammtisch (German: “regulars’ table”) is an informal group meeting held on a regular basis\, and also the usually large\, often round table around which the group meets. A Stammtisch is not a structured meeting\, but rather a friendly get-together.
URL:https://centralcoloradohumanists.org/event/stammtisch-buena-vista-21/
CATEGORIES:CCH Events
END:VEVENT
BEGIN:VEVENT
DTSTART;TZID=America/Denver:20240307T160000
DTEND;TZID=America/Denver:20240307T180000
DTSTAMP:20260425T183958
CREATED:20240205T024431Z
LAST-MODIFIED:20240205T024431Z
UID:1390-1709827200-1709834400@centralcoloradohumanists.org
SUMMARY:Stammtisch Buena Vista
DESCRIPTION:Buena Vista Stammtisch: Sangre de Cristo Electric Community Room.\n \nSay ‘Hello’ to old friends and meet new ones over good food\, drink\, and conversation. On the first Thursday of each month\, in Buena Vista\, members and friends of the Central Colorado Humanists gather for an ‘agenda-free’ time of nourishing relationships. \nFrom Wikipedia: A Stammtisch (German: “regulars’ table”) is an informal group meeting held on a regular basis\, and also the usually large\, often round table around which the group meets. A Stammtisch is not a structured meeting\, but rather a friendly get-together.
URL:https://centralcoloradohumanists.org/event/stammtisch-buena-vista-20/
CATEGORIES:CCH Events
END:VEVENT
BEGIN:VEVENT
DTSTART;TZID=America/Denver:20240201T160000
DTEND;TZID=America/Denver:20240201T180000
DTSTAMP:20260425T183958
CREATED:20240205T024338Z
LAST-MODIFIED:20240205T024338Z
UID:1388-1706803200-1706810400@centralcoloradohumanists.org
SUMMARY:Stammtisch Buena Vista
DESCRIPTION:Buena Vista Stammtisch: Sangre de Cristo Electric Community Room.\n \nSay ‘Hello’ to old friends and meet new ones over good food\, drink\, and conversation. On the first Thursday of each month\, in Buena Vista\, members and friends of the Central Colorado Humanists gather for an ‘agenda-free’ time of nourishing relationships. \nFrom Wikipedia: A Stammtisch (German: “regulars’ table”) is an informal group meeting held on a regular basis\, and also the usually large\, often round table around which the group meets. A Stammtisch is not a structured meeting\, but rather a friendly get-together.
URL:https://centralcoloradohumanists.org/event/stammtisch-buena-vista-19/
CATEGORIES:CCH Events
END:VEVENT
BEGIN:VEVENT
DTSTART;TZID=America/Denver:20240107T100000
DTEND;TZID=America/Denver:20240107T120000
DTSTAMP:20260425T183958
CREATED:20230822T162926Z
LAST-MODIFIED:20230822T162926Z
UID:1312-1704621600-1704628800@centralcoloradohumanists.org
SUMMARY:Sunday Science
DESCRIPTION:Sunday Science\, January 7\, 10:00am – noon\, Scout Hut\, Salida \nAstronomy\, and the upcoming solar eclipse by Tom Rosback
URL:https://centralcoloradohumanists.org/event/sunday-science-6/
CATEGORIES:CCH Events
END:VEVENT
BEGIN:VEVENT
DTSTART;TZID=America/Denver:20231207T160000
DTEND;TZID=America/Denver:20231207T180000
DTSTAMP:20260425T183958
CREATED:20221229T172258Z
LAST-MODIFIED:20221229T172654Z
UID:1169-1701964800-1701972000@centralcoloradohumanists.org
SUMMARY:Stammtisch Buena Vista
DESCRIPTION:Buena Vista Stammtisch: Sangre de Cristo Electric Community Room.\n \nSay ‘Hello’ to old friends and meet new ones over good food\, drink\, and conversation. On the first Thursday of each month\, in Buena Vista\, members and friends of the Central Colorado Humanists gather for an ‘agenda-free’ time of nourishing relationships. \nFrom Wikipedia: A Stammtisch (German: “regulars’ table”) is an informal group meeting held on a regular basis\, and also the usually large\, often round table around which the group meets. A Stammtisch is not a structured meeting\, but rather a friendly get-together.
URL:https://centralcoloradohumanists.org/event/stammtisch-buena-vista-18/
CATEGORIES:CCH Events
END:VEVENT
BEGIN:VEVENT
DTSTART;TZID=America/Denver:20231203T100000
DTEND;TZID=America/Denver:20231203T120000
DTSTAMP:20260425T183958
CREATED:20230822T162756Z
LAST-MODIFIED:20231202T194544Z
UID:1307-1701597600-1701604800@centralcoloradohumanists.org
SUMMARY:Sunday Science
DESCRIPTION:Sunday Science\, December 3\, 10:00am – noon\, Scout Hut\, Salida \nDr. Henry Yu.  Hip and Knee pain
URL:https://centralcoloradohumanists.org/event/sunday-science-5/
CATEGORIES:CCH Events
END:VEVENT
BEGIN:VEVENT
DTSTART;TZID=America/Denver:20231116T140000
DTEND;TZID=America/Denver:20231116T160000
DTSTAMP:20260425T183958
CREATED:20221229T170948Z
LAST-MODIFIED:20221229T171007Z
UID:1126-1700143200-1700150400@centralcoloradohumanists.org
SUMMARY:CCH Board Meeting
DESCRIPTION:The CCH Board meets on the third Thursday  of each month. Members are welcome to request an invite to our monthly Board Meeting\, or are welcome to put a request in writing to be considered by the Board.
URL:https://centralcoloradohumanists.org/event/cch-board-meeting-22/
CATEGORIES:CCH Events
END:VEVENT
BEGIN:VEVENT
DTSTART;TZID=America/Denver:20231105T100000
DTEND;TZID=America/Denver:20231105T120000
DTSTAMP:20260425T183958
CREATED:20230822T162627Z
LAST-MODIFIED:20230822T162627Z
UID:1306-1699178400-1699185600@centralcoloradohumanists.org
SUMMARY:Sunday Science
DESCRIPTION:Sunday Science\, November 5\, 10:00am – noon\, Scout Hut\, Salida \nPaws for Peace by Patti La Taille
URL:https://centralcoloradohumanists.org/event/sunday-science-4/
CATEGORIES:CCH Events
END:VEVENT
BEGIN:VEVENT
DTSTART;TZID=America/Denver:20231102T160000
DTEND;TZID=America/Denver:20231102T180000
DTSTAMP:20260425T183958
CREATED:20221229T172221Z
LAST-MODIFIED:20221229T172742Z
UID:1167-1698940800-1698948000@centralcoloradohumanists.org
SUMMARY:Stammtisch Buena Vista
DESCRIPTION:Buena Vista Stammtisch: Sangre de Cristo Electric Community Room.\n \nSay ‘Hello’ to old friends and meet new ones over good food\, drink\, and conversation. On the first Thursday of each month\, in Buena Vista\, members and friends of the Central Colorado Humanists gather for an ‘agenda-free’ time of nourishing relationships. \nFrom Wikipedia: A Stammtisch (German: “regulars’ table”) is an informal group meeting held on a regular basis\, and also the usually large\, often round table around which the group meets. A Stammtisch is not a structured meeting\, but rather a friendly get-together.
URL:https://centralcoloradohumanists.org/event/stammtisch-buena-vista-17/
CATEGORIES:CCH Events
END:VEVENT
BEGIN:VEVENT
DTSTART;TZID=America/Denver:20231019T140000
DTEND;TZID=America/Denver:20231019T160000
DTSTAMP:20260425T183958
CREATED:20221229T170907Z
LAST-MODIFIED:20221229T170912Z
UID:1127-1697724000-1697731200@centralcoloradohumanists.org
SUMMARY:CCH Board Meeting
DESCRIPTION:The CCH Board meets on the third Thursday  of each month. Members are welcome to request an invite to our monthly Board Meeting\, or are welcome to put a request in writing to be considered by the Board.
URL:https://centralcoloradohumanists.org/event/cch-board-meeting-21/
CATEGORIES:CCH Events
END:VEVENT
END:VCALENDAR